BEGIN:VCALENDAR
VERSION:2.0
PRODID:SchoolNow
CALSCALE:GREGORIAN
BEGIN:VEVENT
UID:1e43556a-bc1c-11f0-baa1-02d1754042f9
DTSTAMP:20260421T162511Z
SUMMARY:Bravo - Trolls Rehearsal
LOCATION:AUDITORIUM + D105 + D110
URL;VALUE=URI:https://www.op97.org/brooks/calendar/8783325/bravo-trolls-reh
 earsal
DTSTART:20260122T213000Z
DTEND:20260123T010000Z
END:VEVENT
END:VCALENDAR
