BEGIN:VCALENDAR
VERSION:2.0
PRODID:SchoolNow
CALSCALE:GREGORIAN
BEGIN:VEVENT
UID:1e435934-bc1c-11f0-b0e1-02d1754042f9
DTSTAMP:20260421T162511Z
SUMMARY:Bravo - Trolls Rehearsal
LOCATION:AUDITORIUM
URL;VALUE=URI:https://www.op97.org/brooks/calendar/8783327/bravo-trolls-reh
 earsal
DTSTART:20260117T150000Z
DTEND:20260117T210000Z
END:VEVENT
END:VCALENDAR
