BEGIN:VCALENDAR
VERSION:2.0
PRODID:SchoolNow
CALSCALE:GREGORIAN
BEGIN:VEVENT
UID:1f55896e-bc1c-11f0-af7a-02d1754042f9
DTSTAMP:20260421T162511Z
SUMMARY:Trolls\, Jr. - 6th Grade Performance
LOCATION:AUDITORIUM + D105 + D110
URL;VALUE=URI:https://www.op97.org/brooks/calendar/8783330/trolls-jr-6th-gr
 ade-performance
DTSTART:20260123T213000Z
DTEND:20260124T030000Z
END:VEVENT
END:VCALENDAR
