BEGIN:VCALENDAR
VERSION:2.0
PRODID:SchoolNow
CALSCALE:GREGORIAN
BEGIN:VEVENT
UID:1f558dd8-bc1c-11f0-87fa-02d1754042f9
DTSTAMP:20260421T162511Z
SUMMARY:Bravo - Trolls Rehearsal
LOCATION:AUDITORIUM
URL;VALUE=URI:https://www.op97.org/brooks/calendar/8783332/bravo-trolls-reh
 earsal
DTSTART:20260106T213000Z
DTEND:20260107T003000Z
END:VEVENT
END:VCALENDAR
