BEGIN:VCALENDAR
VERSION:2.0
PRODID:SchoolNow
CALSCALE:GREGORIAN
BEGIN:VEVENT
UID:15fc76dc-be80-11f0-96c2-024ba3e52507
DTSTAMP:20260421T102011Z
SUMMARY:JV Battle of the Bots Tournament
LOCATION:Commons
URL;VALUE=URI:https://www.op97.org/brooks/calendar/8788034/jv-battle-of-the
 -bots-tournament
DTSTART:20260307T120000Z
DTEND:20260307T190000Z
END:VEVENT
END:VCALENDAR
