BEGIN:VCALENDAR
VERSION:2.0
PRODID:SchoolNow
CALSCALE:GREGORIAN
BEGIN:VEVENT
UID:f18453ca-bf4b-11f0-a9a3-0a58a9feac02
DTSTAMP:20260421T162511Z
SUMMARY:Boys B-Ball Away Game @ Heritage (Summit)
LOCATION:Heritage Middle School\, 6021 S 74th Ave\, Summit\, IL 60501\, USA
URL;VALUE=URI:https://www.op97.org/brooks/calendar/8789679/boys-b-ball-away
 -game-heritage-summit
DTSTART:20260107T223000Z
DTEND:20260108T010000Z
END:VEVENT
END:VCALENDAR
