BEGIN:VCALENDAR
VERSION:2.0
PRODID:SchoolNow
CALSCALE:GREGORIAN
BEGIN:VEVENT
UID:f306f310-bf4b-11f0-a530-0a58a9feac02
DTSTAMP:20260421T162511Z
SUMMARY:Boys B-Ball Practice
LOCATION:Main Gym & Aux Gym
URL;VALUE=URI:https://www.op97.org/brooks/calendar/8789685/boys-b-ball-prac
 tice
DTSTART:20260112T213000Z
DTEND:20260112T233000Z
END:VEVENT
END:VCALENDAR
