BEGIN:VCALENDAR
VERSION:2.0
PRODID:SchoolNow
CALSCALE:GREGORIAN
BEGIN:VEVENT
UID:f330519c-bf4b-11f0-ad17-0a58a9feac02
DTSTAMP:20260421T162511Z
SUMMARY:Boys B-Ball Practice
LOCATION:Main Gym & Aux Gym
URL;VALUE=URI:https://www.op97.org/brooks/calendar/8789697/boys-b-ball-prac
 tice
DTSTART:20260114T213000Z
DTEND:20260114T233000Z
END:VEVENT
END:VCALENDAR
