BEGIN:VCALENDAR
VERSION:2.0
PRODID:SchoolNow
CALSCALE:GREGORIAN
BEGIN:VEVENT
UID:f33061a0-bf4b-11f0-964b-0a58a9feac02
DTSTAMP:20260421T162511Z
SUMMARY:Boys B-Ball Away Game @ Roosevelt Bellwood
LOCATION:Roosevelt Middle School\, 2500 Oak St\, Bellwood\, IL 60104\, USA
URL;VALUE=URI:https://www.op97.org/brooks/calendar/8789703/boys-b-ball-away
 -game-roosevelt-bellwood
DTSTART:20260108T223000Z
DTEND:20260109T010000Z
END:VEVENT
END:VCALENDAR
