BEGIN:VCALENDAR
VERSION:2.0
PRODID:SchoolNow
CALSCALE:GREGORIAN
BEGIN:VEVENT
UID:dc693bec-c0e3-11f0-a0fe-0afff606ced9
DTSTAMP:20260421T162511Z
SUMMARY:Bravo - All School Musical Auditions
LOCATION:AUDITROIUM - D110 - D105
URL;VALUE=URI:https://www.op97.org/brooks/calendar/8794186/bravo-all-school
 -musical-auditions
DTSTART:20260128T213000Z
DTEND:20260129T013000Z
END:VEVENT
END:VCALENDAR
