BEGIN:VCALENDAR
VERSION:2.0
PRODID:SchoolNow
CALSCALE:GREGORIAN
BEGIN:VEVENT
UID:dc836c10-c0e3-11f0-a3b8-0afff606ced9
DTSTAMP:20260421T162511Z
SUMMARY:Bravo - All School Musical Auditions
LOCATION:COMMONS - B109
URL;VALUE=URI:https://www.op97.org/brooks/calendar/8794188/bravo-all-school
 -musical-auditions
DTSTART:20260121T213000Z
DTEND:20260122T013000Z
END:VEVENT
END:VCALENDAR
