BEGIN:VCALENDAR
VERSION:2.0
PRODID:SchoolNow
CALSCALE:GREGORIAN
BEGIN:VEVENT
UID:dc8370ca-c0e3-11f0-8d64-0afff606ced9
DTSTAMP:20260421T162511Z
SUMMARY:Bravo - All School Musical Auditions
LOCATION:COMMONS - B109
URL;VALUE=URI:https://www.op97.org/brooks/calendar/8794189/bravo-all-school
 -musical-auditions
DTSTART:20260122T213000Z
DTEND:20260123T013000Z
END:VEVENT
END:VCALENDAR
