BEGIN:VCALENDAR
VERSION:2.0
PRODID:SchoolNow
CALSCALE:GREGORIAN
BEGIN:VEVENT
UID:b34e9fa0-c4ac-11f0-ab79-0a58a9feac02
DTSTAMP:20260421T102011Z
SUMMARY:Girl Scout Troop #47175 Meeting
LOCATION:A126
URL;VALUE=URI:https://www.op97.org/brooks/calendar/8801946/girl-scout-troop
 -47175-meeting
DTSTART:20260304T213000Z
DTEND:20260304T223000Z
END:VEVENT
END:VCALENDAR
