BEGIN:VCALENDAR
VERSION:2.0
PRODID:SchoolNow
CALSCALE:GREGORIAN
BEGIN:VEVENT
UID:b45f295a-c4ac-11f0-b3e3-0a58a9feac02
DTSTAMP:20260421T162511Z
SUMMARY:Girl Scout Troop #47175 Meeting
LOCATION:A126
URL;VALUE=URI:https://www.op97.org/brooks/calendar/8801948/girl-scout-troop
 -47175-meeting
DTSTART:20260211T213000Z
DTEND:20260211T223000Z
END:VEVENT
END:VCALENDAR
