BEGIN:VCALENDAR
VERSION:2.0
PRODID:SchoolNow
CALSCALE:GREGORIAN
BEGIN:VEVENT
UID:b470ee1a-c4ac-11f0-b066-0a58a9feac02
DTSTAMP:20260421T102011Z
SUMMARY:Girl Scout Troop #47175 Meeting
LOCATION:A126
URL;VALUE=URI:https://www.op97.org/brooks/calendar/8801949/girl-scout-troop
 -47175-meeting
DTSTART:20260408T203000Z
DTEND:20260408T213000Z
END:VEVENT
END:VCALENDAR
