BEGIN:VCALENDAR
VERSION:2.0
PRODID:SchoolNow
CALSCALE:GREGORIAN
BEGIN:VEVENT
UID:b4836b94-c4ac-11f0-968d-0a58a9feac02
DTSTAMP:20260421T162511Z
SUMMARY:8th Grade Nashville Trip Parent Meeting
LOCATION:Commons
URL;VALUE=URI:https://www.op97.org/brooks/calendar/8801951/8th-grade-nashvi
 lle-trip-parent-meeting
DTSTART:20260127T233000Z
DTEND:20260128T003000Z
END:VEVENT
END:VCALENDAR
