BEGIN:VCALENDAR
VERSION:2.0
PRODID:SchoolNow
CALSCALE:GREGORIAN
BEGIN:VEVENT
UID:63bcb906-efe8-11f0-8691-0a58a9feac02
DTSTAMP:20260421T162511Z
SUMMARY:Wrestling Practice
LOCATION:Aux Gym
URL;VALUE=URI:https://www.op97.org/brooks/calendar/8835126/wrestling-practi
 ce
DTSTART:20260202T213000Z
DTEND:20260202T233000Z
END:VEVENT
END:VCALENDAR
