BEGIN:VCALENDAR
VERSION:2.0
PRODID:SchoolNow
CALSCALE:GREGORIAN
BEGIN:VEVENT
UID:63bcba50-efe8-11f0-a5d9-0a58a9feac02
DTSTAMP:20260421T162511Z
SUMMARY:Wrestling Practice
LOCATION:Aux Gym
URL;VALUE=URI:https://www.op97.org/brooks/calendar/8835127/wrestling-practi
 ce
DTSTART:20260203T213000Z
DTEND:20260203T233000Z
END:VEVENT
END:VCALENDAR
