BEGIN:VCALENDAR
VERSION:2.0
PRODID:SchoolNow
CALSCALE:GREGORIAN
BEGIN:VEVENT
UID:64d41816-efe8-11f0-9f7b-0a58a9feac02
DTSTAMP:20260421T162511Z
SUMMARY:Wrestling Practice
LOCATION:Aux Gym
URL;VALUE=URI:https://www.op97.org/brooks/calendar/8835136/wrestling-practi
 ce
DTSTART:20260204T213000Z
DTEND:20260204T233000Z
END:VEVENT
END:VCALENDAR
