BEGIN:VCALENDAR
VERSION:2.0
PRODID:SchoolNow
CALSCALE:GREGORIAN
BEGIN:VEVENT
UID:64d41960-efe8-11f0-81f3-0a58a9feac02
DTSTAMP:20260421T102011Z
SUMMARY:Cheer Party End of Year Party
LOCATION:Commons
URL;VALUE=URI:https://www.op97.org/brooks/calendar/8835137/cheer-party-end-
 of-year-party
DTSTART:20260528T210000Z
DTEND:20260528T223000Z
END:VEVENT
END:VCALENDAR
