BEGIN:VCALENDAR
VERSION:2.0
PRODID:SchoolNow
CALSCALE:GREGORIAN
BEGIN:VEVENT
UID:64f5b804-efe8-11f0-b2f7-0a58a9feac02
DTSTAMP:20260421T102011Z
SUMMARY:8th Grade Dance
URL;VALUE=URI:https://www.op97.org/brooks/calendar/8835150/8th-grade-dance
DTSTART:20260528T230000Z
DTEND:20260529T010000Z
END:VEVENT
END:VCALENDAR
