BEGIN:VCALENDAR
VERSION:2.0
PRODID:SchoolNow
CALSCALE:GREGORIAN
BEGIN:VEVENT
UID:64f5b94e-efe8-11f0-8d2f-0a58a9feac02
DTSTAMP:20260421T162511Z
SUMMARY:Wrestling Practice
LOCATION:Aux Gym
URL;VALUE=URI:https://www.op97.org/brooks/calendar/8835151/wrestling-practi
 ce
DTSTART:20260106T213000Z
DTEND:20260106T233000Z
END:VEVENT
END:VCALENDAR
