BEGIN:VCALENDAR
VERSION:2.0
PRODID:SchoolNow
CALSCALE:GREGORIAN
BEGIN:VEVENT
UID:64f5bb42-efe8-11f0-aa15-0a58a9feac02
DTSTAMP:20260421T162511Z
SUMMARY:Wrestling Practice
LOCATION:Aux Gym
URL;VALUE=URI:https://www.op97.org/brooks/calendar/8835152/wrestling-practi
 ce
DTSTART:20260205T213000Z
DTEND:20260205T233000Z
END:VEVENT
END:VCALENDAR
