BEGIN:VCALENDAR
VERSION:2.0
PRODID:SchoolNow
CALSCALE:GREGORIAN
BEGIN:VEVENT
UID:97e2b45e-fc74-11f0-b8a6-0a58a9feac02
DTSTAMP:20260421T162511Z
SUMMARY:Bravo Trolls Performance
LOCATION:Auditorium
URL;VALUE=URI:https://www.op97.org/brooks/calendar/8846054/bravo-trolls-per
 formance
DTSTART:20260130T213000Z
DTEND:20260131T033000Z
END:VEVENT
END:VCALENDAR
