BEGIN:VCALENDAR
VERSION:2.0
PRODID:SchoolNow
CALSCALE:GREGORIAN
BEGIN:VEVENT
UID:6431274e-0070-11f1-8601-0a58a9feac02
DTSTAMP:20260421T102011Z
SUMMARY:Nashville 8th Grade Trip Departure
LOCATION:Commons
URL;VALUE=URI:https://www.op97.org/brooks/calendar/8848087/nashville-8th-gr
 ade-trip-departure
DTSTART:20260314T070000Z
DTEND:20260314T080000Z
END:VEVENT
END:VCALENDAR
