BEGIN:VCALENDAR
VERSION:2.0
PRODID:SchoolNow
CALSCALE:GREGORIAN
BEGIN:VEVENT
UID:59b9ec5c-013c-11f1-8493-0290659d2ab5
DTSTAMP:20260421T102011Z
SUMMARY:Boys B-Ball EOY Celebration
LOCATION:Commons (4:30pm-8:00pm) & Main Gym (3:30pm-5:15pm)
URL;VALUE=URI:https://www.op97.org/brooks/calendar/8848958/boys-b-ball-eoy-
 celebration
DTSTART:20260305T213000Z
DTEND:20260306T020000Z
END:VEVENT
END:VCALENDAR
