BEGIN:VCALENDAR
VERSION:2.0
PRODID:SchoolNow
CALSCALE:GREGORIAN
BEGIN:VEVENT
UID:4f38abfc-0208-11f1-92f1-0a58a9feac02
DTSTAMP:20260421T102011Z
SUMMARY:Choral Festival Rehearsal
LOCATION:Auditorium & D105
URL;VALUE=URI:https://www.op97.org/brooks/calendar/8849671/choral-festival-
 rehearsal
DTSTART:20260421T171500Z
DTEND:20260421T184500Z
END:VEVENT
END:VCALENDAR
