BEGIN:VCALENDAR
VERSION:2.0
PRODID:SchoolNow
CALSCALE:GREGORIAN
BEGIN:VEVENT
UID:0d77de22-0703-11f1-befb-0affd2d3b257
DTSTAMP:20260421T102011Z
SUMMARY:Mochas with Moriarty (incoming 6th grade parents)
URL;VALUE=URI:https://www.op97.org/brooks/calendar/8852944/mochas-with-mori
 arty-incoming-6th-grade-parents
DTSTART:20260522T130000Z
DTEND:20260522T140000Z
END:VEVENT
END:VCALENDAR
