BEGIN:VCALENDAR
VERSION:2.0
PRODID:SchoolNow
CALSCALE:GREGORIAN
BEGIN:VEVENT
UID:05e89ba8-079c-11f1-b717-02b1e3ac4529
DTSTAMP:20260421T162511Z
SUMMARY:Battle of the Bots Tournament
LOCATION:Auditorium\, Commons\, and Hall Outside Commons\,
URL;VALUE=URI:https://www.op97.org/brooks/calendar/8853601/battle-of-the-bo
 ts-tournament
DTSTART:20260228T120000Z
DTEND:20260228T230000Z
END:VEVENT
END:VCALENDAR
