BEGIN:VCALENDAR
VERSION:2.0
PRODID:SchoolNow
CALSCALE:GREGORIAN
BEGIN:VEVENT
UID:06c058ae-079c-11f1-a3ec-02b1e3ac4529
DTSTAMP:20260421T162511Z
SUMMARY:BHM Sneaker Ball
LOCATION:Commons & Main Gym
URL;VALUE=URI:https://www.op97.org/brooks/calendar/8853602/bhm-sneaker-ball
DTSTART:20260221T000000Z
DTEND:20260221T020000Z
END:VEVENT
END:VCALENDAR
