BEGIN:VCALENDAR
VERSION:2.0
PRODID:SchoolNow
CALSCALE:GREGORIAN
BEGIN:VEVENT
UID:06c05db8-079c-11f1-93c5-02b1e3ac4529
DTSTAMP:20260421T102011Z
SUMMARY:Track Meeting
LOCATION:Auditorium
URL;VALUE=URI:https://www.op97.org/brooks/calendar/8853603/track-meeting
DTSTART:20260305T213000Z
DTEND:20260305T221500Z
END:VEVENT
END:VCALENDAR
