BEGIN:VCALENDAR
VERSION:2.0
PRODID:SchoolNow
CALSCALE:GREGORIAN
BEGIN:VEVENT
UID:06d9d284-079c-11f1-aa65-02b1e3ac4529
DTSTAMP:20260421T162511Z
SUMMARY:Girls Volleyball Practice
URL;VALUE=URI:https://www.op97.org/brooks/calendar/8853605/girls-volleyball
 -practice
DTSTART:20260219T131500Z
DTEND:20260219T143000Z
END:VEVENT
END:VCALENDAR
