BEGIN:VCALENDAR
VERSION:2.0
PRODID:SchoolNow
CALSCALE:GREGORIAN
BEGIN:VEVENT
UID:d3e8259a-083d-11f1-ab49-0e2a1d07236b
DTSTAMP:20260421T102011Z
SUMMARY:End of Year Celebrations (all grade levels)
URL;VALUE=URI:https://www.op97.org/brooks/calendar/8854356/end-of-year-cele
 brations-all-grade-levels
DTSTART:20260529T140000Z
DTEND:20260529T203000Z
END:VEVENT
END:VCALENDAR
