BEGIN:VCALENDAR
VERSION:2.0
PRODID:SchoolNow
CALSCALE:GREGORIAN
BEGIN:VEVENT
UID:561fe374-0909-11f1-b2f7-0a58a9feac02
DTSTAMP:20260421T162511Z
SUMMARY:Bravo - Little Mermaid Rehearsal
LOCATION:AUX GYM
URL;VALUE=URI:https://www.op97.org/brooks/calendar/8855255/bravo-little-mer
 maid-rehearsal
DTSTART:20260228T153000Z
DTEND:20260228T200000Z
END:VEVENT
END:VCALENDAR
