BEGIN:VCALENDAR
VERSION:2.0
PRODID:SchoolNow
CALSCALE:GREGORIAN
BEGIN:VEVENT
UID:561ff6e8-0909-11f1-bfe0-0a58a9feac02
DTSTAMP:20260421T102011Z
SUMMARY:Bravo - Little Mermaid Rehearsal
LOCATION:AUDITORIUM
URL;VALUE=URI:https://www.op97.org/brooks/calendar/8855265/bravo-little-mer
 maid-rehearsal
DTSTART:20260408T203000Z
DTEND:20260408T233000Z
END:VEVENT
END:VCALENDAR
