BEGIN:VCALENDAR
VERSION:2.0
PRODID:SchoolNow
CALSCALE:GREGORIAN
BEGIN:VEVENT
UID:561ff918-0909-11f1-9074-0a58a9feac02
DTSTAMP:20260421T102011Z
SUMMARY:Bravo - Little Mermaid Rehearsal
LOCATION:AUDITORIUM
URL;VALUE=URI:https://www.op97.org/brooks/calendar/8855266/bravo-little-mer
 maid-rehearsal
DTSTART:20260316T203000Z
DTEND:20260316T233000Z
END:VEVENT
END:VCALENDAR
