BEGIN:VCALENDAR
VERSION:2.0
PRODID:SchoolNow
CALSCALE:GREGORIAN
BEGIN:VEVENT
UID:57869ece-0909-11f1-8793-0a58a9feac02
DTSTAMP:20260421T162511Z
SUMMARY:Bravo - Little Mermaid Rehearsal
LOCATION:COMMONS
URL;VALUE=URI:https://www.op97.org/brooks/calendar/8855272/bravo-little-mer
 maid-rehearsal
DTSTART:20260223T213000Z
DTEND:20260224T003000Z
END:VEVENT
END:VCALENDAR
