BEGIN:VCALENDAR
VERSION:2.0
PRODID:SchoolNow
CALSCALE:GREGORIAN
BEGIN:VEVENT
UID:5786a040-0909-11f1-aa66-0a58a9feac02
DTSTAMP:20260421T102011Z
SUMMARY:Bravo - Little Mermaid Rehearsal
LOCATION:AUDITORIUM
URL;VALUE=URI:https://www.op97.org/brooks/calendar/8855273/bravo-little-mer
 maid-rehearsal
DTSTART:20260310T203000Z
DTEND:20260310T233000Z
END:VEVENT
END:VCALENDAR
