BEGIN:VCALENDAR
VERSION:2.0
PRODID:SchoolNow
CALSCALE:GREGORIAN
BEGIN:VEVENT
UID:579b7006-0909-11f1-bc0d-0a58a9feac02
DTSTAMP:20260421T162511Z
SUMMARY:Bravo - Little Mermaid Rehearsal
LOCATION:D110
URL;VALUE=URI:https://www.op97.org/brooks/calendar/8855280/bravo-little-mer
 maid-rehearsal
DTSTART:20260225T213000Z
DTEND:20260226T003000Z
END:VEVENT
END:VCALENDAR
