BEGIN:VCALENDAR
VERSION:2.0
PRODID:SchoolNow
CALSCALE:GREGORIAN
BEGIN:VEVENT
UID:579b71f0-0909-11f1-8e0d-0a58a9feac02
DTSTAMP:20260421T102011Z
SUMMARY:Bravo - Little Mermaid Rehearsal
LOCATION:AUDITORIUM
URL;VALUE=URI:https://www.op97.org/brooks/calendar/8855281/bravo-little-mer
 maid-rehearsal
DTSTART:20260318T203000Z
DTEND:20260318T233000Z
END:VEVENT
END:VCALENDAR
