BEGIN:VCALENDAR
VERSION:2.0
PRODID:SchoolNow
CALSCALE:GREGORIAN
BEGIN:VEVENT
UID:579b7aa6-0909-11f1-807c-0a58a9feac02
DTSTAMP:20260421T102011Z
SUMMARY:Bravo - Little Mermaid Rehearsal
LOCATION:AUDITORIUM
URL;VALUE=URI:https://www.op97.org/brooks/calendar/8855286/bravo-little-mer
 maid-rehearsal
DTSTART:20260321T143000Z
DTEND:20260321T190000Z
END:VEVENT
END:VCALENDAR
