BEGIN:VCALENDAR
VERSION:2.0
PRODID:SchoolNow
CALSCALE:GREGORIAN
BEGIN:VEVENT
UID:57afd712-0909-11f1-8f34-0a58a9feac02
DTSTAMP:20260421T102011Z
SUMMARY:Bravo - Little Mermaid Performance
LOCATION:AUDITORIUM + COMMONS + D110 + D105
URL;VALUE=URI:https://www.op97.org/brooks/calendar/8855292/bravo-little-mer
 maid-performance
DTSTART:20260502T160000Z
DTEND:20260503T030000Z
END:VEVENT
END:VCALENDAR
