BEGIN:VCALENDAR
VERSION:2.0
PRODID:SchoolNow
CALSCALE:GREGORIAN
BEGIN:VEVENT
UID:57afdadc-0909-11f1-b289-0a58a9feac02
DTSTAMP:20260421T102011Z
SUMMARY:Bravo - Little Mermaid Rehearsal
LOCATION:AUDITORIUM
URL;VALUE=URI:https://www.op97.org/brooks/calendar/8855295/bravo-little-mer
 maid-rehearsal
DTSTART:20260307T153000Z
DTEND:20260307T200000Z
END:VEVENT
END:VCALENDAR
