BEGIN:VCALENDAR
VERSION:2.0
PRODID:SchoolNow
CALSCALE:GREGORIAN
BEGIN:VEVENT
UID:57afe43c-0909-11f1-9673-0a58a9feac02
DTSTAMP:20260421T102011Z
SUMMARY:Bravo - Little Mermaid Rehearsal
LOCATION:AUDITORIUM
URL;VALUE=URI:https://www.op97.org/brooks/calendar/8855298/bravo-little-mer
 maid-rehearsal
DTSTART:20260411T133000Z
DTEND:20260411T220000Z
END:VEVENT
END:VCALENDAR
