BEGIN:VCALENDAR
VERSION:2.0
PRODID:SchoolNow
CALSCALE:GREGORIAN
BEGIN:VEVENT
UID:2daecd14-0c39-11f1-ab39-0affc72305bb
DTSTAMP:20260421T162511Z
SUMMARY:BROOKS Choir Concert
URL;VALUE=URI:https://www.op97.org/brooks/calendar/8858004/brooks-choir-con
 cert
DTSTART:20260219T003000Z
DTEND:20260219T023000Z
END:VEVENT
END:VCALENDAR
