BEGIN:VCALENDAR
VERSION:2.0
PRODID:SchoolNow
CALSCALE:GREGORIAN
BEGIN:VEVENT
UID:2dd283f8-0c39-11f1-ab1a-0affc72305bb
DTSTAMP:20260421T162511Z
SUMMARY:BROOKS Orchestra Concert
URL;VALUE=URI:https://www.op97.org/brooks/calendar/8858005/brooks-orchestra
 -concert
DTSTART:20260225T003000Z
DTEND:20260225T023000Z
END:VEVENT
END:VCALENDAR
