BEGIN:VCALENDAR
VERSION:2.0
PRODID:SchoolNow
CALSCALE:GREGORIAN
BEGIN:VEVENT
UID:23dca276-0d05-11f1-a157-0e3d37b7411f
DTSTAMP:20260421T162511Z
SUMMARY:Black History Month Panel Discussion - 8th Grade WIN
LOCATION:Auditorium
URL;VALUE=URI:https://www.op97.org/brooks/calendar/8859492/black-history-mo
 nth-panel-discussion-8th-grade-win
DTSTART:20260220T173000Z
DTEND:20260220T181500Z
END:VEVENT
END:VCALENDAR
