BEGIN:VCALENDAR
VERSION:2.0
PRODID:SchoolNow
CALSCALE:GREGORIAN
BEGIN:VEVENT
UID:23e73010-0d05-11f1-8d37-0e3d37b7411f
DTSTAMP:20260421T162511Z
SUMMARY:Black History Month Panel Discussion - 6th Grade WIN
LOCATION:Auditorium
URL;VALUE=URI:https://www.op97.org/brooks/calendar/8859493/black-history-mo
 nth-panel-discussion-6th-grade-win
DTSTART:20260220T172000Z
DTEND:20260220T180500Z
END:VEVENT
END:VCALENDAR
