BEGIN:VCALENDAR
VERSION:2.0
PRODID:SchoolNow
CALSCALE:GREGORIAN
BEGIN:VEVENT
UID:2127d1bc-0d38-11f1-b47d-02fbbe845877
DTSTAMP:20260421T162511Z
SUMMARY:Black History Month Panel Discussion - 7th Grade WIN
LOCATION:Auditorium
URL;VALUE=URI:https://www.op97.org/brooks/calendar/8859886/black-history-mo
 nth-panel-discussion-7th-grade-win
DTSTART:20260220T181500Z
DTEND:20260220T185400Z
END:VEVENT
END:VCALENDAR
