BEGIN:VCALENDAR
VERSION:2.0
PRODID:SchoolNow
CALSCALE:GREGORIAN
BEGIN:VEVENT
UID:0d972916-0e9d-11f1-940b-0a58a9feac02
DTSTAMP:20260421T102011Z
SUMMARY:Career Fair
URL;VALUE=URI:https://www.op97.org/brooks/calendar/8862820/career-fair
DTSTART:20260423T170000Z
DTEND:20260423T200000Z
END:VEVENT
END:VCALENDAR
